Package: Scale4C Version: 1.32.0 Command: /home/biocbuild/R/R/bin/R CMD INSTALL Scale4C StartedAt: 2025-11-13 21:25:32 -0000 (Thu, 13 Nov 2025) EndedAt: 2025-11-13 21:26:03 -0000 (Thu, 13 Nov 2025) EllapsedTime: 31.1 seconds RetCode: 0 Status: OK