Package: Scale4C Version: 1.32.0 Command: /home/biocbuild/R/R/bin/R CMD build --keep-empty-dirs --no-resave-data Scale4C StartedAt: 2025-11-14 04:59:07 -0000 (Fri, 14 Nov 2025) EndedAt: 2025-11-14 05:01:07 -0000 (Fri, 14 Nov 2025) EllapsedTime: 120.1 seconds RetCode: 0 Status: OK PackageFile: Scale4C_1.32.0.tar.gz PackageFileSize: 4.874 MiB