Package: Scale4C Version: 1.32.0 Command: /home/biocbuild/bbs-3.22-bioc/R/bin/R CMD INSTALL Scale4C StartedAt: 2025-11-11 15:22:33 -0500 (Tue, 11 Nov 2025) EndedAt: 2025-11-11 15:22:56 -0500 (Tue, 11 Nov 2025) EllapsedTime: 23.2 seconds RetCode: 0 Status: OK