Package: Scale4C Version: 1.32.0 Command: /home/biocbuild/bbs-3.22-bioc/R/bin/R CMD check --install=check:Scale4C.install-out.txt --library=/home/biocbuild/bbs-3.22-bioc/R/site-library --timings Scale4C_1.32.0.tar.gz StartedAt: 2025-11-12 03:41:34 -0500 (Wed, 12 Nov 2025) EndedAt: 2025-11-12 03:45:27 -0500 (Wed, 12 Nov 2025) EllapsedTime: 233.3 seconds RetCode: 0 Status: OK CheckDir: Scale4C.Rcheck Warnings: 0