Package: Scale4C Version: 1.30.0 Command: /home/biocbuild/bbs-3.21-bioc/R/bin/R CMD INSTALL Scale4C StartedAt: 2025-10-08 15:18:09 -0400 (Wed, 08 Oct 2025) EndedAt: 2025-10-08 15:18:39 -0400 (Wed, 08 Oct 2025) EllapsedTime: 30.7 seconds RetCode: 0 Status: OK