Package: Scale4C Version: 1.30.0 Command: /home/biocbuild/bbs-3.21-bioc/R/bin/R CMD build --keep-empty-dirs --no-resave-data Scale4C StartedAt: 2025-10-08 19:37:38 -0400 (Wed, 08 Oct 2025) EndedAt: 2025-10-08 19:39:19 -0400 (Wed, 08 Oct 2025) EllapsedTime: 101.1 seconds RetCode: 0 Status: OK PackageFile: Scale4C_1.30.0.tar.gz PackageFileSize: 4.901 MiB