Package: Scale4C Version: 1.30.0 Command: /Library/Frameworks/R.framework/Resources/bin/R CMD build --keep-empty-dirs --no-resave-data Scale4C StartedAt: 2025-10-07 08:46:57 -0400 (Tue, 07 Oct 2025) EndedAt: 2025-10-07 08:49:05 -0400 (Tue, 07 Oct 2025) EllapsedTime: 128.2 seconds RetCode: 0 Status: OK PackageFile: Scale4C_1.30.0.tar.gz PackageFileSize: 4.9 MiB