Package: Scale4C Version: 1.30.0 Command: rm -rf Scale4C.buildbin-libdir && mkdir Scale4C.buildbin-libdir && /Users/biocbuild/BBS/utils/build-universal.sh Scale4C_1.30.0.tar.gz /Library/Frameworks/R.framework/Resources/bin/R Scale4C.buildbin-libdir StartedAt: 2025-10-08 22:50:50 -0400 (Wed, 08 Oct 2025) EndedAt: 2025-10-08 22:51:32 -0400 (Wed, 08 Oct 2025) EllapsedTime: 42.2 seconds RetCode: 0 Status: OK PackageFile: Scale4C_1.30.0.tgz PackageFileSize: 2.174 MiB