Package: Scale4C Version: 1.30.0 Maintainer: Carolin Walter MaintainerEmail: carolin.walter at uni-muenster.de git_url: https://git.bioconductor.org/packages/Scale4C git_branch: RELEASE_3_21 git_last_commit: d8edccd git_last_commit_date: 2025-04-15 11:11:41 -0400 (Tue, 15 Apr 2025)