Package: SanityR Version: 1.0.0 Command: /home/biocbuild/bbs-3.22-bioc/R/bin/R CMD INSTALL SanityR StartedAt: 2025-11-11 15:24:35 -0500 (Tue, 11 Nov 2025) EndedAt: 2025-11-11 15:25:05 -0500 (Tue, 11 Nov 2025) EllapsedTime: 29.8 seconds RetCode: 0 Status: OK