Package: SanityR Version: 1.0.0 Command: /Library/Frameworks/R.framework/Resources/bin/R CMD build --keep-empty-dirs --no-resave-data SanityR StartedAt: 2025-11-03 18:35:16 -0500 (Mon, 03 Nov 2025) EndedAt: 2025-11-03 18:37:06 -0500 (Mon, 03 Nov 2025) EllapsedTime: 110.5 seconds RetCode: 0 Status: OK PackageFile: SanityR_1.0.0.tar.gz PackageFileSize: 764.9 KiB