Package: SanityR Version: 1.0.0 Command: /Library/Frameworks/R.framework/Resources/bin/R CMD INSTALL SanityR StartedAt: 2025-11-10 15:12:34 -0500 (Mon, 10 Nov 2025) EndedAt: 2025-11-10 15:12:46 -0500 (Mon, 10 Nov 2025) EllapsedTime: 11.7 seconds RetCode: 0 Status: OK