Package: SanityR Version: 1.0.0 Command: /Library/Frameworks/R.framework/Resources/bin/R CMD build --keep-empty-dirs --no-resave-data SanityR StartedAt: 2025-11-10 17:36:21 -0500 (Mon, 10 Nov 2025) EndedAt: 2025-11-10 17:37:04 -0500 (Mon, 10 Nov 2025) EllapsedTime: 43.5 seconds RetCode: 0 Status: OK PackageFile: SanityR_1.0.0.tar.gz PackageFileSize: 765.6 KiB