Package: SanityR Version: 1.0.0 Command: rm -rf SanityR.buildbin-libdir && mkdir SanityR.buildbin-libdir && /Users/biocbuild/BBS/utils/build-universal.sh SanityR_1.0.0.tar.gz /Library/Frameworks/R.framework/Resources/bin/R SanityR.buildbin-libdir StartedAt: 2025-11-10 23:34:59 -0500 (Mon, 10 Nov 2025) EndedAt: 2025-11-10 23:35:12 -0500 (Mon, 10 Nov 2025) EllapsedTime: 13.2 seconds RetCode: 0 Status: OK PackageFile: SanityR_1.0.0.tgz PackageFileSize: 815.3 KiB