Package: SamSPECTRAL Version: 1.64.0 Command: /home/biocbuild/R/R/bin/R CMD build --keep-empty-dirs --no-resave-data SamSPECTRAL StartedAt: 2025-11-21 05:27:50 -0000 (Fri, 21 Nov 2025) EndedAt: 2025-11-21 05:28:23 -0000 (Fri, 21 Nov 2025) EllapsedTime: 33.0 seconds RetCode: 0 Status: OK PackageFile: SamSPECTRAL_1.64.0.tar.gz PackageFileSize: 925.5 KiB