Package: SamSPECTRAL Version: 1.64.0 Command: /home/biocbuild/bbs-3.22-bioc/R/bin/R CMD check --install=check:SamSPECTRAL.install-out.txt --library=/home/biocbuild/bbs-3.22-bioc/R/site-library --timings SamSPECTRAL_1.64.0.tar.gz StartedAt: 2025-11-12 03:40:09 -0500 (Wed, 12 Nov 2025) EndedAt: 2025-11-12 03:41:24 -0500 (Wed, 12 Nov 2025) EllapsedTime: 75.1 seconds RetCode: 0 Status: WARNINGS CheckDir: SamSPECTRAL.Rcheck Warnings: 2