Package: SamSPECTRAL Version: 1.64.0 Command: /home/biocbuild/bbs-3.22-bioc/R/bin/R CMD build --keep-empty-dirs --no-resave-data --md5 SamSPECTRAL StartedAt: 2025-11-11 19:55:18 -0500 (Tue, 11 Nov 2025) EndedAt: 2025-11-11 19:56:13 -0500 (Tue, 11 Nov 2025) EllapsedTime: 55.1 seconds RetCode: 0 Status: OK PackageFile: SamSPECTRAL_1.64.0.tar.gz PackageFileSize: 937.7 KiB