Package: SamSPECTRAL Version: 1.62.0 Command: /home/biocbuild/bbs-3.21-bioc/R/bin/R CMD build --keep-empty-dirs --no-resave-data SamSPECTRAL StartedAt: 2025-10-15 19:38:08 -0400 (Wed, 15 Oct 2025) EndedAt: 2025-10-15 19:39:02 -0400 (Wed, 15 Oct 2025) EllapsedTime: 54.1 seconds RetCode: 0 Status: OK PackageFile: SamSPECTRAL_1.62.0.tar.gz PackageFileSize: 936.2 KiB