Package: SamSPECTRAL Version: 1.62.0 Command: /Library/Frameworks/R.framework/Resources/bin/R CMD INSTALL SamSPECTRAL StartedAt: 2025-10-13 15:07:11 -0400 (Mon, 13 Oct 2025) EndedAt: 2025-10-13 15:07:15 -0400 (Mon, 13 Oct 2025) EllapsedTime: 3.6 seconds RetCode: 0 Status: OK