Package: SamSPECTRAL Version: 1.62.0 Command: /Library/Frameworks/R.framework/Resources/bin/R CMD build --keep-empty-dirs --no-resave-data SamSPECTRAL StartedAt: 2025-10-14 08:21:51 -0400 (Tue, 14 Oct 2025) EndedAt: 2025-10-14 08:23:23 -0400 (Tue, 14 Oct 2025) EllapsedTime: 92.2 seconds RetCode: 0 Status: OK PackageFile: SamSPECTRAL_1.62.0.tar.gz PackageFileSize: 936.5 KiB