Package: SamSPECTRAL Version: 1.62.0 Command: rm -rf SamSPECTRAL.buildbin-libdir && mkdir SamSPECTRAL.buildbin-libdir && /Users/biocbuild/BBS/utils/build-universal.sh SamSPECTRAL_1.62.0.tar.gz /Library/Frameworks/R.framework/Resources/bin/R SamSPECTRAL.buildbin-libdir StartedAt: 2025-10-15 20:17:39 -0400 (Wed, 15 Oct 2025) EndedAt: 2025-10-15 20:17:45 -0400 (Wed, 15 Oct 2025) EllapsedTime: 5.7 seconds RetCode: 0 Status: OK PackageFile: SamSPECTRAL_1.62.0.tgz PackageFileSize: 996.3 KiB