Package: SWATH2stats Version: 1.40.0 Command: /home/biocbuild/bbs-3.22-bioc/R/bin/R CMD INSTALL SWATH2stats StartedAt: 2025-11-11 15:31:30 -0500 (Tue, 11 Nov 2025) EndedAt: 2025-11-11 15:31:48 -0500 (Tue, 11 Nov 2025) EllapsedTime: 18.2 seconds RetCode: 0 Status: OK