Package: SWATH2stats Version: 1.40.0 Command: /home/biocbuild/bbs-3.22-bioc/R/bin/R CMD build --keep-empty-dirs --no-resave-data --md5 SWATH2stats StartedAt: 2025-11-11 20:34:17 -0500 (Tue, 11 Nov 2025) EndedAt: 2025-11-11 20:35:01 -0500 (Tue, 11 Nov 2025) EllapsedTime: 44.0 seconds RetCode: 0 Status: OK PackageFile: SWATH2stats_1.40.0.tar.gz PackageFileSize: 3.036 MiB