Package: SWATH2stats Version: 1.38.0 Command: /home/biocbuild/bbs-3.21-bioc/R/bin/R CMD INSTALL SWATH2stats StartedAt: 2025-10-15 15:25:43 -0400 (Wed, 15 Oct 2025) EndedAt: 2025-10-15 15:26:01 -0400 (Wed, 15 Oct 2025) EllapsedTime: 17.6 seconds RetCode: 0 Status: OK