Package: SWATH2stats Version: 1.38.0 Command: /home/biocbuild/bbs-3.21-bioc/R/bin/R CMD build --keep-empty-dirs --no-resave-data SWATH2stats StartedAt: 2025-10-15 20:13:03 -0400 (Wed, 15 Oct 2025) EndedAt: 2025-10-15 20:13:49 -0400 (Wed, 15 Oct 2025) EllapsedTime: 46.0 seconds RetCode: 0 Status: OK PackageFile: SWATH2stats_1.38.0.tar.gz PackageFileSize: 3.033 MiB