Package: SWATH2stats Version: 1.38.0 Command: /Library/Frameworks/R.framework/Resources/bin/R CMD INSTALL SWATH2stats StartedAt: 2025-04-21 15:21:48 -0400 (Mon, 21 Apr 2025) EndedAt: 2025-04-21 15:22:10 -0400 (Mon, 21 Apr 2025) EllapsedTime: 22.5 seconds RetCode: 0 Status: OK