Package: SWATH2stats Version: 1.38.0 Command: /Library/Frameworks/R.framework/Resources/bin/R CMD INSTALL SWATH2stats StartedAt: 2025-10-13 15:49:25 -0400 (Mon, 13 Oct 2025) EndedAt: 2025-10-13 15:49:45 -0400 (Mon, 13 Oct 2025) EllapsedTime: 19.8 seconds RetCode: 0 Status: OK