Package: SWATH2stats Version: 1.38.0 Command: /Library/Frameworks/R.framework/Resources/bin/R CMD build --keep-empty-dirs --no-resave-data SWATH2stats StartedAt: 2025-10-14 10:44:02 -0400 (Tue, 14 Oct 2025) EndedAt: 2025-10-14 10:45:08 -0400 (Tue, 14 Oct 2025) EllapsedTime: 66.5 seconds RetCode: 0 Status: OK PackageFile: SWATH2stats_1.38.0.tar.gz PackageFileSize: 3.033 MiB