Package: SWATH2stats Version: 1.38.0 Command: rm -rf SWATH2stats.buildbin-libdir && mkdir SWATH2stats.buildbin-libdir && /Users/biocbuild/BBS/utils/build-universal.sh SWATH2stats_1.38.0.tar.gz /Library/Frameworks/R.framework/Resources/bin/R SWATH2stats.buildbin-libdir StartedAt: 2025-10-15 20:46:09 -0400 (Wed, 15 Oct 2025) EndedAt: 2025-10-15 20:46:32 -0400 (Wed, 15 Oct 2025) EllapsedTime: 22.7 seconds RetCode: 0 Status: OK PackageFile: SWATH2stats_1.38.0.tgz PackageFileSize: 3.165 MiB