Package: SVP Version: 1.2.1 Command: /Library/Frameworks/R.framework/Resources/bin/R CMD INSTALL SVP StartedAt: 2025-11-10 15:12:46 -0500 (Mon, 10 Nov 2025) EndedAt: 2025-11-10 15:13:30 -0500 (Mon, 10 Nov 2025) EllapsedTime: 44.4 seconds RetCode: 0 Status: OK