Package: SVP Version: 1.2.1 Command: /Library/Frameworks/R.framework/Resources/bin/R CMD build --keep-empty-dirs --no-resave-data SVP StartedAt: 2025-11-10 17:56:43 -0500 (Mon, 10 Nov 2025) EndedAt: 2025-11-10 17:58:22 -0500 (Mon, 10 Nov 2025) EllapsedTime: 99.1 seconds RetCode: 0 Status: OK PackageFile: SVP_1.2.1.tar.gz PackageFileSize: 4.64 MiB