Package: SVP Version: 1.2.1 Command: rm -rf SVP.buildbin-libdir && mkdir SVP.buildbin-libdir && /Users/biocbuild/BBS/utils/build-universal.sh SVP_1.2.1.tar.gz /Library/Frameworks/R.framework/Resources/bin/R SVP.buildbin-libdir StartedAt: 2025-11-10 23:38:58 -0500 (Mon, 10 Nov 2025) EndedAt: 2025-11-10 23:39:46 -0500 (Mon, 10 Nov 2025) EllapsedTime: 48.2 seconds RetCode: 0 Status: OK PackageFile: SVP_1.2.1.tgz PackageFileSize: 5.281 MiB