Package: SUITOR Version: 1.12.0 Command: /home/biocbuild/bbs-3.22-bioc/R/bin/R CMD INSTALL SUITOR StartedAt: 2025-11-11 15:12:01 -0500 (Tue, 11 Nov 2025) EndedAt: 2025-11-11 15:12:16 -0500 (Tue, 11 Nov 2025) EllapsedTime: 15.2 seconds RetCode: 0 Status: OK