Package: SUITOR Version: 1.12.0 Command: /Library/Frameworks/R.framework/Resources/bin/R CMD INSTALL SUITOR StartedAt: 2025-11-10 15:04:30 -0500 (Mon, 10 Nov 2025) EndedAt: 2025-11-10 15:04:38 -0500 (Mon, 10 Nov 2025) EllapsedTime: 7.9 seconds RetCode: 1 Status: ERROR