Package: SUITOR Version: 1.12.0 Command: /Library/Frameworks/R.framework/Resources/bin/R CMD build --keep-empty-dirs --no-resave-data SUITOR StartedAt: 2025-11-10 17:55:42 -0500 (Mon, 10 Nov 2025) EndedAt: 2025-11-10 17:55:43 -0500 (Mon, 10 Nov 2025) EllapsedTime: 1.0 seconds RetCode: 1 Status: ERROR PackageFile: None PackageFileSize: NA