Package: STdeconvolve Version: 1.12.0 Command: /Library/Frameworks/R.framework/Resources/bin/R CMD INSTALL STdeconvolve StartedAt: 2025-10-06 16:56:00 -0400 (Mon, 06 Oct 2025) EndedAt: 2025-10-06 16:56:01 -0400 (Mon, 06 Oct 2025) EllapsedTime: 0.3 seconds RetCode: 1 Status: ERROR