Package: STdeconvolve Version: 1.12.0 Command: /Library/Frameworks/R.framework/Resources/bin/R CMD build --keep-empty-dirs --no-resave-data STdeconvolve StartedAt: 2025-10-06 23:01:32 -0400 (Mon, 06 Oct 2025) EndedAt: 2025-10-06 23:01:35 -0400 (Mon, 06 Oct 2025) EllapsedTime: 2.2 seconds RetCode: 1 Status: ERROR PackageFile: None PackageFileSize: NA