Package: STdeconvolve Version: 1.12.0 Command: /home/biocbuild/R/R/bin/R CMD INSTALL STdeconvolve StartedAt: 2025-09-25 21:29:03 -0000 (Thu, 25 Sep 2025) EndedAt: 2025-09-25 21:29:03 -0000 (Thu, 25 Sep 2025) EllapsedTime: 0.3 seconds RetCode: 1 Status: ERROR