Package: STRINGdb Version: 2.22.0 Command: /home/biocbuild/bbs-3.22-bioc/R/bin/R CMD check --install=check:STRINGdb.install-out.txt --library=/home/biocbuild/bbs-3.22-bioc/R/site-library --timings STRINGdb_2.22.0.tar.gz StartedAt: 2025-11-15 04:56:52 -0500 (Sat, 15 Nov 2025) EndedAt: 2025-11-15 05:06:56 -0500 (Sat, 15 Nov 2025) EllapsedTime: 603.7 seconds RetCode: 0 Status: OK CheckDir: STRINGdb.Rcheck Warnings: 0