Package: STRINGdb Version: 2.22.0 Command: /home/biocbuild/bbs-3.22-bioc/R/bin/R CMD build --keep-empty-dirs --no-resave-data --md5 STRINGdb StartedAt: 2025-11-11 20:31:55 -0500 (Tue, 11 Nov 2025) EndedAt: 2025-11-11 20:35:59 -0500 (Tue, 11 Nov 2025) EllapsedTime: 244.2 seconds RetCode: 0 Status: OK PackageFile: STRINGdb_2.22.0.tar.gz PackageFileSize: 9.95 MiB