Package: STRINGdb Version: 2.20.0 Command: /home/biocbuild/bbs-3.21-bioc/R/bin/R CMD build --keep-empty-dirs --no-resave-data STRINGdb StartedAt: 2025-10-15 20:10:51 -0400 (Wed, 15 Oct 2025) EndedAt: 2025-10-15 20:14:54 -0400 (Wed, 15 Oct 2025) EllapsedTime: 243.2 seconds RetCode: 0 Status: OK PackageFile: STRINGdb_2.20.0.tar.gz PackageFileSize: 9.949 MiB