Package: STRINGdb Version: 2.20.0 Command: rm -rf STRINGdb.buildbin-libdir && mkdir STRINGdb.buildbin-libdir && /Users/biocbuild/BBS/utils/build-universal.sh STRINGdb_2.20.0.tar.gz /Library/Frameworks/R.framework/Resources/bin/R STRINGdb.buildbin-libdir StartedAt: 2025-04-22 01:12:04 -0400 (Tue, 22 Apr 2025) EndedAt: 2025-04-22 01:12:15 -0400 (Tue, 22 Apr 2025) EllapsedTime: 10.3 seconds RetCode: 0 Status: OK PackageFile: STRINGdb_2.20.0.tgz PackageFileSize: 10.14 MiB