Package: STRINGdb Version: 2.20.0 Command: /home/biocbuild/R/R/bin/R CMD INSTALL STRINGdb StartedAt: 2025-09-29 20:23:12 -0000 (Mon, 29 Sep 2025) EndedAt: 2025-09-29 20:23:30 -0000 (Mon, 29 Sep 2025) EllapsedTime: 18.5 seconds RetCode: 0 Status: OK