Package: STRINGdb Version: 2.20.0 Command: /home/biocbuild/R/R/bin/R CMD build --keep-empty-dirs --no-resave-data STRINGdb StartedAt: 2025-09-30 05:43:44 -0000 (Tue, 30 Sep 2025) EndedAt: 2025-09-30 05:50:10 -0000 (Tue, 30 Sep 2025) EllapsedTime: 385.1 seconds RetCode: 0 Status: OK PackageFile: STRINGdb_2.20.0.tar.gz PackageFileSize: 9.941 MiB