Package: STRINGdb Version: 2.22.0 Maintainer: Damian Szklarczyk MaintainerEmail: damian.szklarczyk at imls.uzh.ch git_url: https://git.bioconductor.org/packages/STRINGdb git_branch: RELEASE_3_22 git_last_commit: 94848b5 git_last_commit_date: 2025-10-29 10:16:33 -0400 (Wed, 29 Oct 2025)