Package: STATegRa Version: 1.46.0 Command: /home/biocbuild/bbs-3.22-bioc/R/bin/R CMD build --keep-empty-dirs --no-resave-data --md5 STATegRa StartedAt: 2025-11-11 20:31:11 -0500 (Tue, 11 Nov 2025) EndedAt: 2025-11-11 20:33:04 -0500 (Tue, 11 Nov 2025) EllapsedTime: 113.1 seconds RetCode: 0 Status: OK PackageFile: STATegRa_1.46.0.tar.gz PackageFileSize: 4.946 MiB