Package: STATegRa Version: 1.46.0 Command: /Library/Frameworks/R.framework/Resources/bin/R CMD build --keep-empty-dirs --no-resave-data STATegRa StartedAt: 2025-10-31 17:57:53 -0400 (Fri, 31 Oct 2025) EndedAt: 2025-10-31 17:58:40 -0400 (Fri, 31 Oct 2025) EllapsedTime: 46.5 seconds RetCode: 0 Status: OK PackageFile: STATegRa_1.46.0.tar.gz PackageFileSize: 5.178 MiB