Package: STATegRa Version: 1.46.0 Command: rm -rf STATegRa.buildbin-libdir && mkdir STATegRa.buildbin-libdir && /Users/biocbuild/BBS/utils/build-universal.sh STATegRa_1.46.0.tar.gz /Library/Frameworks/R.framework/Resources/bin/R STATegRa.buildbin-libdir StartedAt: 2025-10-31 23:25:31 -0400 (Fri, 31 Oct 2025) EndedAt: 2025-10-31 23:25:37 -0400 (Fri, 31 Oct 2025) EllapsedTime: 6.1 seconds RetCode: 0 Status: OK PackageFile: STATegRa_1.46.0.tgz PackageFileSize: 4.883 MiB