Package: STADyUM Version: 1.0.0 Command: /home/biocbuild/bbs-3.22-bioc/R/bin/R CMD build --keep-empty-dirs --no-resave-data --md5 STADyUM StartedAt: 2025-11-11 20:30:45 -0500 (Tue, 11 Nov 2025) EndedAt: 2025-11-11 20:32:39 -0500 (Tue, 11 Nov 2025) EllapsedTime: 114.1 seconds RetCode: 0 Status: OK PackageFile: STADyUM_1.0.0.tar.gz PackageFileSize: 2.794 MiB