Package: SRAdb Version: 1.72.0 Command: /home/biocbuild/bbs-3.22-bioc/R/bin/R CMD build --keep-empty-dirs --no-resave-data --md5 SRAdb StartedAt: 2025-11-11 20:29:59 -0500 (Tue, 11 Nov 2025) EndedAt: 2025-11-11 20:30:09 -0500 (Tue, 11 Nov 2025) EllapsedTime: 10.0 seconds RetCode: 0 Status: OK PackageFile: SRAdb_1.72.0.tar.gz PackageFileSize: 891.4 KiB